BEGIN:VCALENDAR
VERSION:2.0
PRODID:-//One more Link - ECPv6.15.20//NONSGML v1.0//EN
CALSCALE:GREGORIAN
METHOD:PUBLISH
X-WR-CALNAME:One more Link
X-ORIGINAL-URL:https://onemorelink.co.th
X-WR-CALDESC:Events for One more Link
REFRESH-INTERVAL;VALUE=DURATION:PT1H
X-Robots-Tag:noindex
X-PUBLISHED-TTL:PT1H
BEGIN:VTIMEZONE
TZID:Asia/Bangkok
BEGIN:STANDARD
TZOFFSETFROM:+0700
TZOFFSETTO:+0700
TZNAME:+07
DTSTART:20240101T000000
END:STANDARD
END:VTIMEZONE
BEGIN:VEVENT
DTSTART;TZID=Asia/Bangkok:20250717T083000
DTEND;TZID=Asia/Bangkok:20250717T160000
DTSTAMP:20260421T001242
CREATED:20250716T022233Z
LAST-MODIFIED:20250716T022344Z
UID:5756-1752741000-1752768000@onemorelink.co.th
SUMMARY:โครงการสัมมนา เรื่อง “ปัญหาการลักลอบทิ้งกากของเสียอุตสาหกรรม ขยะพลาสติก และการนําเข้าขยะอิเล็กทรอนิกส์โดยผิดกฎหมายกลายเป็นอาชญากรรมด้านสิ่งแวดล้อม”
DESCRIPTION:ขอเชิญเข้าร่วมการสัมมนาเรื่อง “ปัญหาการลักลอบทิ้งกากของเสียอุตสาหกรรม ขยะพลาสติก และการนำเข้าขยะอิเล็กทรอนิกส์โดยผิดกฎหมายกลายเป็นอาชญากรรมด้านสิ่งแวดล้อม” จัดโดย คณะกรรมาธิการทรัพยากรธรรมชาติและสิ่งแวดล้อม วุฒิสภา\n\n วันพฤหัสบดีที่ 17 กรกฎาคม 2568\n เวลา 08.30 – 16.00 นาฬิกา\n ณ ห้องประชุม Tipawan Ballroom ชั้น Lobby โรงแรมแกรนด์ริชมอนด์ จังหวัดนนทบุรี\n\n 
URL:https://onemorelink.co.th/event/%e0%b9%82%e0%b8%84%e0%b8%a3%e0%b8%87%e0%b8%81%e0%b8%b2%e0%b8%a3%e0%b8%aa%e0%b8%b1%e0%b8%a1%e0%b8%a1%e0%b8%99%e0%b8%b2-%e0%b9%80%e0%b8%a3%e0%b8%b7%e0%b9%88%e0%b8%ad%e0%b8%87-%e0%b8%9b%e0%b8%b1/
ATTACH;FMTTYPE=image/jpeg:https://onemorelink.co.th/wp-content/uploads/2025/07/518731141_1075273611429279_2431048317311553928_n.jpg
END:VEVENT
BEGIN:VEVENT
DTSTART;TZID=Asia/Bangkok:20250722T100000
DTEND;TZID=Asia/Bangkok:20250722T120000
DTSTAMP:20260421T001242
CREATED:20250717T035023Z
LAST-MODIFIED:20250717T035023Z
UID:5769-1753178400-1753185600@onemorelink.co.th
SUMMARY:"The Biochar Opportunity: From Waste to Circular Economy"
DESCRIPTION:สถาบันอุตสาหกรรมเพื่อการเกษตร (สอก.)\, สถาบันการเปลี่ยนแปลงสภาพภูมิอากาศ (สปอ.) และ CGS Internatinal ได้ร่วมกันจัดสัมมนาในหัวข้อ\n“The Biochar Opportunity: From Waste to Circular Economy”\nเพื่อให้ความรู้ในการทำ Biochar และ Case Study โดยมีผู้บรรยายจาก CGS International\, Bio Ark และ Happy Ground \nโดยเนื้อหาบรรยายจะครอบคลุมถึง:\n– ปัญหาการเผาในภาคการเกษตร\n– การใช้ประโยชน์จากไบโอชาร์\n– มาตรฐานและตลาดคาร์บอนเครดิตสำหรับไบโอชาร์\n– ความท้าทายและข้อจำกัดของการผลิตไบโอชาร์\n– ตัวอย่างกรณีศึกษา \n(check mark) ในวันที่ 22 กรกฎาคม 2568 เวลา 10.00 – 12.00 น.\n(check mark) ในรูปแบบ Hybrid (Onsite ณ 1010 ชั้น 10 ส.อ.ท. และ Online ผ่านระบบ Zoom)\n(earth) การสัมมนานี้จะจัดขึ้นในรูปแบบภาษาอังกฤษ \nผู้ประกอบการ ผู้ผลิตสินค้าเกษตร หรือผู้ที่เกี่ยวข้องสามารถลงทะเบียนได้ที่ (Registration Survey): https://forms.office.com/r/Lcu0vh6049
URL:https://onemorelink.co.th/event/the-biochar-opportunity-from-waste-to-circular-economy/
ATTACH;FMTTYPE=image/png:https://onemorelink.co.th/wp-content/uploads/2025/07/PR_Biochar-Seminar-scaled.png
END:VEVENT
BEGIN:VEVENT
DTSTART;TZID=Asia/Bangkok:20250725T080000
DTEND;TZID=Asia/Bangkok:20250808T170000
DTSTAMP:20260421T001242
CREATED:20250725T025933Z
LAST-MODIFIED:20250725T025933Z
UID:5841-1753430400-1754672400@onemorelink.co.th
SUMMARY:ประชาสัมพันธ์ 📢 เปิดรับฟังความคิดเห็นต่อร่างพระราชบัญญัติบริหารจัดการเพื่ออากาศสะอาด
DESCRIPTION:เปิดรับฟังความคิดเห็นต่อร่างพระราชบัญญัติบริหารจัดการเพื่ออากาศสะอาด พ.ศ.\nตั้งแต่วันศุกร์ที่ 25 กรกฎาคม – วันศุกร์ที่ 8 สิงหาคม 2568 \nโดยสามารถแสดงความคิดเห็นผ่านลิ้งค์ที่ปรากฏนี้ \nhttps://shorturl.asia/MCoPU
URL:https://onemorelink.co.th/event/%e0%b8%9b%e0%b8%a3%e0%b8%b0%e0%b8%8a%e0%b8%b2%e0%b8%aa%e0%b8%b1%e0%b8%a1%e0%b8%9e%e0%b8%b1%e0%b8%99%e0%b8%98%e0%b9%8c-%f0%9f%93%a2-%e0%b9%80%e0%b8%9b%e0%b8%b4%e0%b8%94%e0%b8%a3%e0%b8%b1%e0%b8%9a/
END:VEVENT
BEGIN:VEVENT
DTSTART;TZID=Asia/Bangkok:20250730T083000
DTEND;TZID=Asia/Bangkok:20250730T233000
DTSTAMP:20260421T001242
CREATED:20250721T035824Z
LAST-MODIFIED:20250721T035824Z
UID:5773-1753864200-1753918200@onemorelink.co.th
SUMMARY:สัมมนาวิชาการ Climate Change Sharing and Discussion
DESCRIPTION:ขอเชิญร่วมสัมมนาวิชาการ Climate Change Sharing and Discussion มาตรการที่เกี่ยวข้องกับการเปลี่ยนแปลงสภาพภูมิอากาศ และการขับเคลื่อนภาคอุตสาหกรรม  \nในวันพุธที่ 30 กรกฎาคม 2568  \nเวลา 08.30 -11.30 น.  \nผ่านระบบ Video Conference Zoom  \nเพื่อให้ความรู้เกี่ยวกับนโยบาย กฎหมาย กฎระเบียบที่เกี่ยวข้องกับการเปลี่ยนแปลงสภาพภูมิอากาศ และแนวทางการขับเคลื่อนอุตสาหกรรมต่าง ๆ ภายใต้กรอบนโยบาย  \nลงทะเบียนได้ที่ : https://docs.google.com/forms/d/e/1FAIpQLSeJghUO5sbXpjMN1kuCcFyAtw8yOEFm2ON7PdxWrFr6MSlvvQ/viewform \nสอบถามเพิ่มเติม : 02 345 1164 : 02 345 1166 : 02 345 1168
URL:https://onemorelink.co.th/event/%e0%b8%aa%e0%b8%b1%e0%b8%a1%e0%b8%a1%e0%b8%99%e0%b8%b2%e0%b8%a7%e0%b8%b4%e0%b8%8a%e0%b8%b2%e0%b8%81%e0%b8%b2%e0%b8%a3-climate-change-sharing-and-discussion/
ATTACH;FMTTYPE=image/jpeg:https://onemorelink.co.th/wp-content/uploads/2025/07/Climate-Change-Sharing-and-Discussion-3.jpg
END:VEVENT
BEGIN:VEVENT
DTSTART;TZID=Asia/Bangkok:20250807T083000
DTEND;TZID=Asia/Bangkok:20250807T083000
DTSTAMP:20260421T001242
CREATED:20250730T030629Z
LAST-MODIFIED:20250730T040153Z
UID:5846-1754555400-1754555400@onemorelink.co.th
SUMMARY:“SME ไทยในยุคเปลี่ยนผ่านยานยนต์: ปรับตัวหรือถอย?”
DESCRIPTION:สสว. ขอเรียนเชิญท่าน หรือ ผู้เเทน เข้าร่วมงาน เเละ ขอความอนุเคราะห์ประชาสัมพันธ์เชิญชวนผู้ประกอบการในเครือข่ายหน่วยงานของท่าน เพื่อเข้าร่วมกิจกรรม เผยแพร่ผลการศึกษากลไกและแนวทางการส่งเสริม SME ในอุตสาหกรรมยานยนต์และชิ้นส่วน พร้อมการเสวนา“SME ไทยในยุคเปลี่ยนผ่านยานยนต์: ปรับตัวหรือถอย?” วันที่ 7 สิงหาคม 2568 มีรายละเอียด ดังนี้ \n  \n📢 สสว. ขอเชิญเข้าร่วมกิจกรรม เผยแพร่ผลการศึกษากลไกและแนวทางการส่งเสริม SME ในอุตสาหกรรมยานยนต์และชิ้นส่วน \nพร้อมการเสวนา“SME ไทยในยุคเปลี่ยนผ่านยานยนต์: ปรับตัวหรือถอย?” \n  \nแลกเปลี่ยนมุมมองจากผู้แทนภาครัฐ นักวิชาการ และผู้ประกอบการตัวจริง \nเพื่อร่วมวิเคราะห์ทิศทางการปรับตัวของ SME ไทยในยุคยานยนต์เปลี่ยนผ่าน \nพร้อมข้อเสนอเชิงนโยบายที่เป็นรูปธรรมต่อภาคธุรกิจ \n  \n📅 วันที่ 7 สิงหาคม 2568 \n🕣 เวลา 08.30 – 12.00 น. (บริการอาหารว่างและอาหารกลางวัน) \n🏨 ห้องนิวยอร์ค ชั้น 2 โรงแรมคอนราด กรุงเทพฯ \n🎫 เข้าร่วมฟรี! ไม่มีค่าใช้จ่าย \n  \n📌 ลงทะเบียนด่วน! ที่นั่งมีจำนวนจำกัด \nhttps://forms.gle/ZNUAmpr5DrCXLk1UA \n 
URL:https://onemorelink.co.th/event/sme-%e0%b9%84%e0%b8%97%e0%b8%a2%e0%b9%83%e0%b8%99%e0%b8%a2%e0%b8%b8%e0%b8%84%e0%b9%80%e0%b8%9b%e0%b8%a5%e0%b8%b5%e0%b9%88%e0%b8%a2%e0%b8%99%e0%b8%9c%e0%b9%88%e0%b8%b2%e0%b8%99%e0%b8%a2/
ATTACH;FMTTYPE=image/jpeg:https://onemorelink.co.th/wp-content/uploads/2025/07/banner-เสวนา-070868.jpg
END:VEVENT
BEGIN:VEVENT
DTSTART;TZID=Asia/Bangkok:20250818T133000
DTEND;TZID=Asia/Bangkok:20250818T160000
DTSTAMP:20260421T001242
CREATED:20250730T025335Z
LAST-MODIFIED:20250730T025335Z
UID:5843-1755523800-1755532800@onemorelink.co.th
SUMMARY:สภาวิชาชีพวิทยาศาสตร์และเทคโนโลยี ขอเชิญเข้าร่วมการเสวนาเรื่อง
DESCRIPTION:➡️”แนวทางการพัฒนาด้านการดักจับ ใช้ประโยชน์และกักเก็บคาร์บอนในประเทศไทย (CCUS Development Pathway in Thailand)”” \n  \n📍วันที่ 18 สิงหาคม 2568 เวลา 13.30 – 16.00 น. \n🎯 Zoom Cloud Meetings \n  \nวิทยากร \n\n คุณกนก อินทรวิจิตร\n คุณปิยะ สุขุมภาณุเมศร์\n คุณฐิติ เมฆวิชัย\n ดร.อภิรดี สุวรรณทอง\n ดร.ขจรศักดิ์ เฟื่องนวกิจ\n\nผู้นำเสวนา \nดร.อดิชาติ สุรินทร์คำ \n🟢 ลงทะเบียนได้ที่ https://dg.th/k9cglpo5r1
URL:https://onemorelink.co.th/event/%e0%b8%aa%e0%b8%a0%e0%b8%b2%e0%b8%a7%e0%b8%b4%e0%b8%8a%e0%b8%b2%e0%b8%8a%e0%b8%b5%e0%b8%9e%e0%b8%a7%e0%b8%b4%e0%b8%97%e0%b8%a2%e0%b8%b2%e0%b8%a8%e0%b8%b2%e0%b8%aa%e0%b8%95%e0%b8%a3%e0%b9%8c%e0%b9%81/
ATTACH;FMTTYPE=image/jpeg:https://onemorelink.co.th/wp-content/uploads/2025/07/180868.jpg
END:VEVENT
BEGIN:VEVENT
DTSTART;TZID=Asia/Bangkok:20250907T080000
DTEND;TZID=Asia/Bangkok:20250912T170000
DTSTAMP:20260421T001242
CREATED:20250721T040321Z
LAST-MODIFIED:20250721T040614Z
UID:5777-1757232000-1757696400@onemorelink.co.th
SUMMARY:Site Visit ประเทศต้นแบบ แหล่งกำเนิดนวัตกรรมเปลี่ยนโลก สู่ความสำเร็จอย่างยั่งยืน♻️
DESCRIPTION:Site Visit ประเทศต้นแบบ แหล่งกำเนิดนวัตกรรมเปลี่ยนโลก สู่ความสำเร็จอย่างยั่งยืน♻️  \n.  \nเปิดประสบการณ์สุดพิเศษเพื่อผู้บริหารองค์กรยุคใหม่ ถึงประเทศเยอรมนี ในโครงการ👉 ESG & Sustainable Innovation: Learning from Germany’s Best Practices เยี่ยมชมองค์กรชั้นนำ พบปะพูดคุยกับผู้เชี่ยวชาญ แลกเปลี่ยนประสบการณ์จากกลุ่มธุรกิจด้านนวัตกรรม เรียนรู้ระบบการบริหารจัดการที่ผสาน ESG อย่างลงตัวในทุกมิติ ทั้งด้านการเงิน การจัดการทรัพยากรธรรมชาติ เทคโนโลยีดิจิทัล และกระบวนการผลิตที่เป็นมิตรกับสิ่งแวดล้อม ช่วยให้ผู้บริหารได้รับแรงบันดาลใจใหม่ๆ พร้อมท้าทายขีดจำกัดการบริหารจัดการแบแบบเดิมๆ นำไปสู่การเปลี่ยนแปลงที่แท้จริงในองค์กร และประยุกต์ใช้ Best Practices เพื่อเพิ่มศักยภาพการแข่งขันในตลาดโลกได้อย่างยั่งยืน  \n🌱 ถอดรหัสกลยุทธ์และอัปเดตเทรนด์ ESG จากองค์กรชั้นนำระดับโลกในด้าน Green Finance\, Circular Economy & Smart Infrastructure อาทิ Deutsche Bank\, Siemens\, SAP\, BASF   \n🤝 เชื่อมต่อเครือข่าย ESG ระดับนานาชาติ พบปะผู้เชี่ยวชาญ นวัตกร และองค์กรที่ขับเคลื่อน… \nESG & Sustainable Innovation: Learning from Germany’s Best Practices \n \n 
URL:https://onemorelink.co.th/event/site-visit-%e0%b8%9b%e0%b8%a3%e0%b8%b0%e0%b9%80%e0%b8%97%e0%b8%a8%e0%b8%95%e0%b9%89%e0%b8%99%e0%b9%81%e0%b8%9a%e0%b8%9a-%e0%b9%81%e0%b8%ab%e0%b8%a5%e0%b9%88%e0%b8%87%e0%b8%81%e0%b8%b3%e0%b9%80/
ATTACH;FMTTYPE=image/jpeg:https://onemorelink.co.th/wp-content/uploads/2025/07/Banner-Site-Visit-German1040x1040.jpg
END:VEVENT
BEGIN:VEVENT
DTSTART;VALUE=DATE:20250908
DTEND;VALUE=DATE:20250909
DTSTAMP:20260421T001242
CREATED:20250908T020158Z
LAST-MODIFIED:20250908T020158Z
UID:6057-1757289600-1757375999@onemorelink.co.th
SUMMARY:"คาร์บอนฟุตพริ้นท์ของผลิตภัณฑ์"
DESCRIPTION:เรียน ประธานกลุ่มอุตสาหกรรม \n📢 ประชาสัมพันธ์อบรมออนไลน์ฟรี!\nหลักสูตร e-Learning เรื่อง “คาร์บอนฟุตพริ้นท์ของผลิตภัณฑ์”\nโดย สำนักงานมาตรฐานผลิตภัณฑ์อุตสาหกรรม (สมอ.)\nสำนักงานมาตรฐานผลิตภัณฑ์อุตสาหกรรม (สมอ.) ขอเชิญผู้ประกอบการ บุคลากรภาคอุตสาหกรรม และผู้ที่เกี่ยวข้อง เข้าร่วมอบรม หลักสูตรการเรียนรู้ผ่านระบบอิเล็กทรอนิกส์ (e-Learning)\nในหัวข้อ:\n🟩 มตช. 14067-2562 (ISO 14067:2018)\nการตรวจสอบและรับรอง – ก๊าซเรือนกระจก – คาร์บอนฟุตพริ้นท์ของผลิตภัณฑ์ – ข้อกำหนดและแนวทางสำหรับการหาปริมาณ \nผู้เข้าร่วมอบรมจะได้รับ\n1. ความรู้เกี่ยวกับมาตรฐาน มตช. 14067-2562 (ISO 14067:2018) สามารถนำไปปรับใช้ให้เกิดประโยชน์ในบริบทขององค์กรได้\n2. สามารถรายงานคาร์บอนฟุตพริ้ท์ผลิตภัณฑ์ขององค์กรได้อย่างถูกต้อง\n3. สามารถเตรียมความพร้อมในด้านการเปลี่ยนแปลงสภาพภูมิอากาศให้เกิดประโยชน์กับองค์กร รวมถึงสอดรับกับการมุ่งสู่เป้าหมายการปล่อยก๊าซเรือนกระจกสุทธิเป็นศูนย์ (Net Zero Emission) ของประเทศ\n**********************************************\nจุดเด่นของหลักสูตร\n✅ ไม่มีค่าใช้จ่าย\n✅ ได้รับประกาศนียบัตร จาก สมอ. (สามารถพิมพ์ได้ด้วยตนเอง)\n*************************************************\n📌 คู่มือการเข้าใช้งานระบบ e-Learning\n🔗 https://drive.google.com/drive/folders/1f5YkPy4Zp4qoT0euWAJ6yLmrYYPVy23f?usp=sharing\n📱 ลงทะเบียนเรียน TISI e-Learning https://sso.tisi.go.th/login \nสอบถามข้อมูลเพิ่มเติม กลุ่มพัฒนาผู้ประกอบการด้านการมาตรฐาน กองส่งเสริมและพัฒนาด้านการมาตรฐาน 02-430-6833 ต่อ 2330\, 2331
URL:https://onemorelink.co.th/event/%e0%b8%84%e0%b8%b2%e0%b8%a3%e0%b9%8c%e0%b8%9a%e0%b8%ad%e0%b8%99%e0%b8%9f%e0%b8%b8%e0%b8%95%e0%b8%9e%e0%b8%a3%e0%b8%b4%e0%b9%89%e0%b8%99%e0%b8%97%e0%b9%8c%e0%b8%82%e0%b8%ad%e0%b8%87%e0%b8%9c%e0%b8%a5/
END:VEVENT
BEGIN:VEVENT
DTSTART;TZID=Asia/Bangkok:20250915T080000
DTEND;TZID=Asia/Bangkok:20250915T170000
DTSTAMP:20260421T001242
CREATED:20250723T012156Z
LAST-MODIFIED:20250723T012156Z
UID:5782-1757923200-1757955600@onemorelink.co.th
SUMMARY:"CCI Climate Change Forum 2025"
DESCRIPTION:🎉 ขอเชิญทุกท่านเข้าร่วมงาน “CCI Climate Change Forum 2025” ภายใต้แนวคิด “Driving Towards Net Zero – ขับเคลื่อนสู่การปล่อยก๊าซเรือนกระจกสุทธิเป็นศูนย์” \nพบกับการอัปเดตแนวโน้มและแนวทางลดการปล่อยก๊าซเรือนกระจกจากผู้เชี่ยวชาญในอุตสาหกรรม พร้อมแลกเปลี่ยนองค์ความรู้และโซลูชันเพื่อสิ่งแวดล้อมที่ยั่งยืน 💡🌿 \n📅 วันจันทร์ที่ 15 กันยายน 2568 \n📍 ณ M Tower ชั้น 8  \n✅ ลงทะเบียนเข้าร่วมงานฟรี! \n📲 คลิกหรือสแกน QR Code เพื่อลงทะเบียนได้แล้ววันนี้ https://cci.fti.or.th/th/register  \n🚝 รับของที่ระลึกพิเศษ !! (จำนวนจำกัด) เมื่อท่านร่วมลดการปล่อยคาร์บอนด้วยการเดินทางมาร่วมงานโดยระบบขนส่งมวลชน  \n📌 งานนี้เหมาะสำหรับภาคอุตสาหกรรม นักวางแผนด้านสิ่งแวดล้อม และผู้สนใจเรื่อง Net Zero ทุกท่าน ไม่ควรพลาด! \n📩 สอบถามข้อมูลเพิ่มเติมแอดไลน์ OA : @fticci \nhttps://cci.fti.or.th/th/register
URL:https://onemorelink.co.th/event/cci-climate-change-forum-2025/
ATTACH;FMTTYPE=image/jpeg:https://onemorelink.co.th/wp-content/uploads/2025/07/S__43950095.jpg
END:VEVENT
BEGIN:VEVENT
DTSTART;TZID=Asia/Bangkok:20250916T090000
DTEND;TZID=Asia/Bangkok:20250917T183000
DTSTAMP:20260421T001242
CREATED:20250828T084213Z
LAST-MODIFIED:20250828T084213Z
UID:5959-1758013200-1758133800@onemorelink.co.th
SUMMARY:เปิดรับสมัคร หลักสูตร ปฏิบัติการเชิงลึกมาตรฐานโรงงานอุตสาหกรรมเชิงนิเวศ
DESCRIPTION:(Eco Factory & Eco Factory for Waste Processor) \n📌Highlight \n✅ การเตรียมความพร้อมเป็นที่ปรึกษาและผู้ตรวจประเมินมาตรฐาน Eco Factory \n✅ เรียนรู้กฎหมายและความเชื่อมโยงระหว่างมาตรฐาน Eco Factory กับมาตรฐานสากลอื่นๆ ที่เกี่ยวข้อง \n✅ วิธีการรวบรวมข้อมูลและการจัดเตรียมข้อมูลตามข้อกำหนด \n✅ การฝึกปฏิบัติการประเมินข้อมูลและการจัดทำข้อมูลตามข้อกำหนด \n✅ ศึกษาดูงาน ณ สถานประกอบการจริง \n  \n📌 วิทยากร: รศ.ดร. โกวิท สุวรรณหงษ์ คณบดีคณะสาธารณสุขศาสตร์ มหาวิทยาลัยบูรพา  \n  \n📅อบรมวันที่ 16-17 กันยายน 2568  \nเวลา 09.00-16.30 น. (อาหารกลางวัน+อาหารว่าง 2 มื้อ ทั้ง 2 วัน) \n📍ศูนย์ปฏิบัติการโรงแรมมหาวิทยาลัยบูรพา จ.ชลบุรี \n  \n📅ดูงาน ณ สถานประกอบการ วันที่ 23 กันยายน 2568 \nเวลา 10.00 – 15.00 น. (อาหารกลางวัน+อาหารว่าง 2 มื้อ) \n📍บริษัท ไทยนิปปอนรับเบอร์ อินดัสตรี้ จำกัด (มหาชน) จ.ชลบุรี \n  \n💰 อัตราค่าลงทะเบียน (ไม่รวม Vat 7%) \n📌Early bird : 5\,000 บาท/ท่าน (สมัครและชำระเงินภายใน 29 ส.ค. 68) \n📌ราคาปกติ(ไม่รวมที่พัก) : 6\,000 บาท/ท่าน \n📌ราคาปกติ(รวมที่พัก)…
URL:https://onemorelink.co.th/event/%e0%b9%80%e0%b8%9b%e0%b8%b4%e0%b8%94%e0%b8%a3%e0%b8%b1%e0%b8%9a%e0%b8%aa%e0%b8%a1%e0%b8%b1%e0%b8%84%e0%b8%a3-%e0%b8%ab%e0%b8%a5%e0%b8%b1%e0%b8%81%e0%b8%aa%e0%b8%b9%e0%b8%95%e0%b8%a3-%e0%b8%9b%e0%b8%8f/
END:VEVENT
BEGIN:VEVENT
DTSTART;VALUE=DATE:20260105
DTEND;VALUE=DATE:20260106
DTSTAMP:20260421T001242
CREATED:20260106T034633Z
LAST-MODIFIED:20260106T035413Z
UID:6660-1767571200-1767657599@onemorelink.co.th
SUMMARY:มอบอุปกรณ์การเรียน/กีฬา วันเด็กแห่งชาติ
DESCRIPTION:
URL:https://onemorelink.co.th/event/%e0%b8%a1%e0%b8%ad%e0%b8%9a%e0%b8%ad%e0%b8%b8%e0%b8%9b%e0%b8%81%e0%b8%a3%e0%b8%93%e0%b9%8c%e0%b8%81%e0%b8%b2%e0%b8%a3%e0%b9%80%e0%b8%a3%e0%b8%b5%e0%b8%a2%e0%b8%99-%e0%b8%81%e0%b8%b5%e0%b8%ac%e0%b8%b2/
ATTACH;FMTTYPE=image/png:https://onemorelink.co.th/wp-content/uploads/2026/01/OML-EV.png
END:VEVENT
BEGIN:VEVENT
DTSTART;VALUE=DATE:20260122
DTEND;VALUE=DATE:20260123
DTSTAMP:20260421T001242
CREATED:20260106T043008Z
LAST-MODIFIED:20260106T043047Z
UID:6666-1769040000-1769126399@onemorelink.co.th
SUMMARY:สักการะศาลหลักเมือง
DESCRIPTION:
URL:https://onemorelink.co.th/event/%e0%b8%aa%e0%b8%b1%e0%b8%81%e0%b8%81%e0%b8%b2%e0%b8%a3%e0%b8%b0%e0%b8%a8%e0%b8%b2%e0%b8%a5%e0%b8%ab%e0%b8%a5%e0%b8%b1%e0%b8%81%e0%b9%80%e0%b8%a1%e0%b8%b7%e0%b8%ad%e0%b8%87/
ATTACH;FMTTYPE=image/png:https://onemorelink.co.th/wp-content/uploads/2026/01/OML-EV-พฤหัส-22-สักการะศาลหลักเมือง.png
END:VEVENT
BEGIN:VEVENT
DTSTART;TZID=Asia/Bangkok:20260204T080000
DTEND;TZID=Asia/Bangkok:20260206T170000
DTSTAMP:20260421T001242
CREATED:20260106T043231Z
LAST-MODIFIED:20260106T043306Z
UID:6670-1770192000-1770397200@onemorelink.co.th
SUMMARY:Asia Enwaste Expo 2026
DESCRIPTION:
URL:https://onemorelink.co.th/event/asia-enwaste-expo-2026/
ATTACH;FMTTYPE=image/png:https://onemorelink.co.th/wp-content/uploads/2026/01/OML-EV-พุธ-ศุกร์-45-6-Asia-Enwaste-Expo.png
END:VEVENT
BEGIN:VEVENT
DTSTART;TZID=Asia/Bangkok:20260220T080000
DTEND;TZID=Asia/Bangkok:20260220T170000
DTSTAMP:20260421T001242
CREATED:20260106T043600Z
LAST-MODIFIED:20260106T043600Z
UID:6674-1771574400-1771606800@onemorelink.co.th
SUMMARY:เลี้ยงอาหารกลางวันเด็กสลัมฯ คลองเตย + บริจาคกล่องปันใจ
DESCRIPTION:
URL:https://onemorelink.co.th/event/%e0%b9%80%e0%b8%a5%e0%b8%b5%e0%b9%89%e0%b8%a2%e0%b8%87%e0%b8%ad%e0%b8%b2%e0%b8%ab%e0%b8%b2%e0%b8%a3%e0%b8%81%e0%b8%a5%e0%b8%b2%e0%b8%87%e0%b8%a7%e0%b8%b1%e0%b8%99%e0%b9%80%e0%b8%94%e0%b9%87%e0%b8%81/
ATTACH;FMTTYPE=image/png:https://onemorelink.co.th/wp-content/uploads/2026/01/OML-EV-เลี้ยงอาหารกลางวันเด็ก.png
END:VEVENT
BEGIN:VEVENT
DTSTART;TZID=Asia/Bangkok:20260325T080000
DTEND;TZID=Asia/Bangkok:20260325T170000
DTSTAMP:20260421T001242
CREATED:20260106T043733Z
LAST-MODIFIED:20260106T043815Z
UID:6678-1774425600-1774458000@onemorelink.co.th
SUMMARY:ตรวจสุขภาพพนักงานประจำปี
DESCRIPTION:
URL:https://onemorelink.co.th/event/%e0%b8%95%e0%b8%a3%e0%b8%a7%e0%b8%88%e0%b8%aa%e0%b8%b8%e0%b8%82%e0%b8%a0%e0%b8%b2%e0%b8%9e%e0%b8%9e%e0%b8%99%e0%b8%b1%e0%b8%81%e0%b8%87%e0%b8%b2%e0%b8%99%e0%b8%9b%e0%b8%a3%e0%b8%b0%e0%b8%88%e0%b8%b3/
ATTACH;FMTTYPE=image/png:https://onemorelink.co.th/wp-content/uploads/2026/01/OML-EV-ตรวจสุขภาพพนักงานประจำปี.png
END:VEVENT
BEGIN:VEVENT
DTSTART;TZID=Asia/Bangkok:20260410T080000
DTEND;TZID=Asia/Bangkok:20260410T170000
DTSTAMP:20260421T001242
CREATED:20260106T044006Z
LAST-MODIFIED:20260106T044006Z
UID:6682-1775808000-1775840400@onemorelink.co.th
SUMMARY:สรงน้ำพระ (วันสงกรานต์)
DESCRIPTION:
URL:https://onemorelink.co.th/event/%e0%b8%aa%e0%b8%a3%e0%b8%87%e0%b8%99%e0%b9%89%e0%b8%b3%e0%b8%9e%e0%b8%a3%e0%b8%b0-%e0%b8%a7%e0%b8%b1%e0%b8%99%e0%b8%aa%e0%b8%87%e0%b8%81%e0%b8%a3%e0%b8%b2%e0%b8%99%e0%b8%95%e0%b9%8c/
ATTACH;FMTTYPE=image/png:https://onemorelink.co.th/wp-content/uploads/2026/01/OML-EV-สรงน้ำพระ-วันสงกรานต์.png
END:VEVENT
BEGIN:VEVENT
DTSTART;TZID=Asia/Bangkok:20260514T080000
DTEND;TZID=Asia/Bangkok:20260514T170000
DTSTAMP:20260421T001242
CREATED:20260106T044206Z
LAST-MODIFIED:20260106T044206Z
UID:6686-1778745600-1778778000@onemorelink.co.th
SUMMARY:อบรมพนักงานบริษัท
DESCRIPTION:
URL:https://onemorelink.co.th/event/%e0%b8%ad%e0%b8%9a%e0%b8%a3%e0%b8%a1%e0%b8%9e%e0%b8%99%e0%b8%b1%e0%b8%81%e0%b8%87%e0%b8%b2%e0%b8%99%e0%b8%9a%e0%b8%a3%e0%b8%b4%e0%b8%a9%e0%b8%b1%e0%b8%97/
ATTACH;FMTTYPE=image/png:https://onemorelink.co.th/wp-content/uploads/2026/01/OML-EV-อบรมพนักงานบริษัท.png
END:VEVENT
BEGIN:VEVENT
DTSTART;TZID=Asia/Bangkok:20260601T080000
DTEND;TZID=Asia/Bangkok:20260601T170000
DTSTAMP:20260421T001242
CREATED:20260106T044332Z
LAST-MODIFIED:20260106T044420Z
UID:6690-1780300800-1780333200@onemorelink.co.th
SUMMARY:บริจาคเงินสนับสนุนอุปกรณ์การ แพทย์ รพ.ศิริราช
DESCRIPTION:
URL:https://onemorelink.co.th/event/%e0%b8%9a%e0%b8%a3%e0%b8%b4%e0%b8%88%e0%b8%b2%e0%b8%84%e0%b9%80%e0%b8%87%e0%b8%b4%e0%b8%99%e0%b8%aa%e0%b8%99%e0%b8%b1%e0%b8%9a%e0%b8%aa%e0%b8%99%e0%b8%b8%e0%b8%99%e0%b8%ad%e0%b8%b8%e0%b8%9b%e0%b8%81/
ATTACH;FMTTYPE=image/png:https://onemorelink.co.th/wp-content/uploads/2026/01/OML-EV-บริจาคเงินสนับสนุนอุปกรณ์การ-แพทย์-รพ.ศิริราช.png
END:VEVENT
BEGIN:VEVENT
DTSTART;TZID=Asia/Bangkok:20260610T080000
DTEND;TZID=Asia/Bangkok:20260610T170000
DTSTAMP:20260421T001242
CREATED:20260106T044620Z
LAST-MODIFIED:20260106T044620Z
UID:6694-1781078400-1781110800@onemorelink.co.th
SUMMARY:ตรวจสิ่งแวดล้อมบริษัท
DESCRIPTION:
URL:https://onemorelink.co.th/event/%e0%b8%95%e0%b8%a3%e0%b8%a7%e0%b8%88%e0%b8%aa%e0%b8%b4%e0%b9%88%e0%b8%87%e0%b9%81%e0%b8%a7%e0%b8%94%e0%b8%a5%e0%b9%89%e0%b8%ad%e0%b8%a1%e0%b8%9a%e0%b8%a3%e0%b8%b4%e0%b8%a9%e0%b8%b1%e0%b8%97-2/
ATTACH;FMTTYPE=image/png:https://onemorelink.co.th/wp-content/uploads/2026/01/OML-EV-ตรวจสิ่งแวดล้อมบริษัท.png
END:VEVENT
BEGIN:VEVENT
DTSTART;TZID=Asia/Bangkok:20260714T080000
DTEND;TZID=Asia/Bangkok:20260714T170000
DTSTAMP:20260421T001242
CREATED:20260106T045039Z
LAST-MODIFIED:20260106T045039Z
UID:6697-1784016000-1784048400@onemorelink.co.th
SUMMARY:ซ้อมหนีไฟบริษัท
DESCRIPTION:
URL:https://onemorelink.co.th/event/%e0%b8%8b%e0%b9%89%e0%b8%ad%e0%b8%a1%e0%b8%ab%e0%b8%99%e0%b8%b5%e0%b9%84%e0%b8%9f%e0%b8%9a%e0%b8%a3%e0%b8%b4%e0%b8%a9%e0%b8%b1%e0%b8%97/
ATTACH;FMTTYPE=image/png:https://onemorelink.co.th/wp-content/uploads/2026/01/OML-EVซ้อมหนีไฟบริษัท.png
END:VEVENT
BEGIN:VEVENT
DTSTART;TZID=Asia/Bangkok:20260811T080000
DTEND;TZID=Asia/Bangkok:20260811T170000
DTSTAMP:20260421T001242
CREATED:20260106T045255Z
LAST-MODIFIED:20260106T045255Z
UID:6700-1786435200-1786467600@onemorelink.co.th
SUMMARY:ถ่ายภาพออฟฟิศ
DESCRIPTION:
URL:https://onemorelink.co.th/event/%e0%b8%96%e0%b9%88%e0%b8%b2%e0%b8%a2%e0%b8%a0%e0%b8%b2%e0%b8%9e%e0%b8%ad%e0%b8%ad%e0%b8%9f%e0%b8%9f%e0%b8%b4%e0%b8%a8/
ATTACH;FMTTYPE=image/png:https://onemorelink.co.th/wp-content/uploads/2026/01/OML-EV-ถ่ายภาพออฟฟิศ.png
END:VEVENT
BEGIN:VEVENT
DTSTART;TZID=Asia/Bangkok:20260925T080000
DTEND;TZID=Asia/Bangkok:20260925T170000
DTSTAMP:20260421T001242
CREATED:20260106T045446Z
LAST-MODIFIED:20260106T045446Z
UID:6704-1790323200-1790355600@onemorelink.co.th
SUMMARY:บริจาคเงินสนับสนุนทุนการ ศึกษา ม.มหิดล (คณะสิ่งแวดล้อม)
DESCRIPTION:
URL:https://onemorelink.co.th/event/%e0%b8%9a%e0%b8%a3%e0%b8%b4%e0%b8%88%e0%b8%b2%e0%b8%84%e0%b9%80%e0%b8%87%e0%b8%b4%e0%b8%99%e0%b8%aa%e0%b8%99%e0%b8%b1%e0%b8%9a%e0%b8%aa%e0%b8%99%e0%b8%b8%e0%b8%99%e0%b8%97%e0%b8%b8%e0%b8%99%e0%b8%81/
ATTACH;FMTTYPE=image/png:https://onemorelink.co.th/wp-content/uploads/2026/01/OML-EV-บริจาคเงินสนับสนุนทุนการ-ศึกษา.png
END:VEVENT
BEGIN:VEVENT
DTSTART;TZID=Asia/Bangkok:20261009T080000
DTEND;TZID=Asia/Bangkok:20261009T170000
DTSTAMP:20260421T001242
CREATED:20260106T045605Z
LAST-MODIFIED:20260106T045605Z
UID:6708-1791532800-1791565200@onemorelink.co.th
SUMMARY:บริจาคถังขยะ โรงเรียน/วัด (CSR)
DESCRIPTION:
URL:https://onemorelink.co.th/event/%e0%b8%9a%e0%b8%a3%e0%b8%b4%e0%b8%88%e0%b8%b2%e0%b8%84%e0%b8%96%e0%b8%b1%e0%b8%87%e0%b8%82%e0%b8%a2%e0%b8%b0-%e0%b9%82%e0%b8%a3%e0%b8%87%e0%b9%80%e0%b8%a3%e0%b8%b5%e0%b8%a2%e0%b8%99-%e0%b8%a7%e0%b8%b1/
ATTACH;FMTTYPE=image/png:https://onemorelink.co.th/wp-content/uploads/2026/01/OML-EV-บริจาคถังขยะ-โรงเรียน_วัด.png
END:VEVENT
BEGIN:VEVENT
DTSTART;TZID=Asia/Bangkok:20261109T080000
DTEND;TZID=Asia/Bangkok:20261109T170000
DTSTAMP:20260421T001242
CREATED:20260106T045736Z
LAST-MODIFIED:20260106T045736Z
UID:6712-1794211200-1794243600@onemorelink.co.th
SUMMARY:บริจาคกล่องปันใจ
DESCRIPTION:
URL:https://onemorelink.co.th/event/%e0%b8%9a%e0%b8%a3%e0%b8%b4%e0%b8%88%e0%b8%b2%e0%b8%84%e0%b8%81%e0%b8%a5%e0%b9%88%e0%b8%ad%e0%b8%87%e0%b8%9b%e0%b8%b1%e0%b8%99%e0%b9%83%e0%b8%88/
ATTACH;FMTTYPE=image/png:https://onemorelink.co.th/wp-content/uploads/2026/01/OML-EV-กล่องปันใจ.png
END:VEVENT
BEGIN:VEVENT
DTSTART;TZID=Asia/Bangkok:20261225T080000
DTEND;TZID=Asia/Bangkok:20261225T170000
DTSTAMP:20260421T001242
CREATED:20260106T045841Z
LAST-MODIFIED:20260106T045841Z
UID:6716-1798185600-1798218000@onemorelink.co.th
SUMMARY:งานเลี้ยงปีใหม่
DESCRIPTION:
URL:https://onemorelink.co.th/event/%e0%b8%87%e0%b8%b2%e0%b8%99%e0%b9%80%e0%b8%a5%e0%b8%b5%e0%b9%89%e0%b8%a2%e0%b8%87%e0%b8%9b%e0%b8%b5%e0%b9%83%e0%b8%ab%e0%b8%a1%e0%b9%88/
ATTACH;FMTTYPE=image/png:https://onemorelink.co.th/wp-content/uploads/2026/01/OML-EV-งานเลี้ยงปีใหม่.png
END:VEVENT
END:VCALENDAR