BEGIN:VCALENDAR
VERSION:2.0
PRODID:-//One more Link - ECPv6.15.20//NONSGML v1.0//EN
CALSCALE:GREGORIAN
METHOD:PUBLISH
X-WR-CALNAME:One more Link
X-ORIGINAL-URL:https://onemorelink.co.th
X-WR-CALDESC:Events for One more Link
REFRESH-INTERVAL;VALUE=DURATION:PT1H
X-Robots-Tag:noindex
X-PUBLISHED-TTL:PT1H
BEGIN:VTIMEZONE
TZID:UTC
BEGIN:STANDARD
TZOFFSETFROM:+0000
TZOFFSETTO:+0000
TZNAME:UTC
DTSTART:20230101T000000
END:STANDARD
END:VTIMEZONE
BEGIN:VEVENT
DTSTART;TZID=UTC:20240927T090000
DTEND;TZID=UTC:20240927T120000
DTSTAMP:20260421T013056
CREATED:20240924T002615Z
LAST-MODIFIED:20240924T002615Z
UID:3337-1727427600-1727438400@onemorelink.co.th
SUMMARY:งานสัมมนา เรื่อง " ความปลอดภัยในสภาวะแวดล้อมการทำงานเกี่ยวกับสารกัมมันตรังสี แสงซินโครตรอน อนุภาคนาโน และกฏระเบียบที่เกี่ยวข้อง "
DESCRIPTION:รายละเอียด \nhttps://linevoom.line.me/post/1172716255787440319 \n  \n 
URL:https://onemorelink.co.th/event/%e0%b8%87%e0%b8%b2%e0%b8%99%e0%b8%aa%e0%b8%b1%e0%b8%a1%e0%b8%a1%e0%b8%99%e0%b8%b2-%e0%b9%80%e0%b8%a3%e0%b8%b7%e0%b9%88%e0%b8%ad%e0%b8%87-%e0%b8%84%e0%b8%a7%e0%b8%b2%e0%b8%a1%e0%b8%9b%e0%b8%a5/
ATTACH;FMTTYPE=image/jpeg:https://onemorelink.co.th/wp-content/uploads/2024/09/โปรสเตอร์-ปชส.-งานสัมมนาฯ-นาโน27-ก.ย.-67-scaled-e1727162706227.jpg
END:VEVENT
BEGIN:VEVENT
DTSTART;TZID=UTC:20240926T090000
DTEND;TZID=UTC:20240927T170000
DTSTAMP:20260421T013056
CREATED:20240917T013841Z
LAST-MODIFIED:20240917T013841Z
UID:3316-1727341200-1727456400@onemorelink.co.th
SUMMARY:ก้าวใหม่สู่การเพิ่มมูลค่าของเหลือทิ้งและลดการปล่อยคาร์บอน (Food Waste)
DESCRIPTION:  \n \nรายละเอียด \nhttps://linevoom.line.me/post/1172656208265445407
URL:https://onemorelink.co.th/event/%e0%b8%81%e0%b9%89%e0%b8%b2%e0%b8%a7%e0%b9%83%e0%b8%ab%e0%b8%a1%e0%b9%88%e0%b8%aa%e0%b8%b9%e0%b9%88%e0%b8%81%e0%b8%b2%e0%b8%a3%e0%b9%80%e0%b8%9e%e0%b8%b4%e0%b9%88%e0%b8%a1%e0%b8%a1%e0%b8%b9%e0%b8%a5/
END:VEVENT
BEGIN:VEVENT
DTSTART;TZID=UTC:20240926T090000
DTEND;TZID=UTC:20240927T170000
DTSTAMP:20260421T013056
CREATED:20240831T204307Z
LAST-MODIFIED:20240831T204733Z
UID:3247-1727341200-1727456400@onemorelink.co.th
SUMMARY:สัมมนา "ก้าวใหม่สู่การเพิ่มมูลค่าของเหลือทิ้ง และลดการปล่อยคาร์บอน (Food Waste)"
DESCRIPTION:รายละเอียด \nhttps://linevoom.line.me/post/1172516181512806931
URL:https://onemorelink.co.th/event/%e0%b8%aa%e0%b8%b1%e0%b8%a1%e0%b8%a1%e0%b8%99%e0%b8%b2-%e0%b8%81%e0%b9%89%e0%b8%b2%e0%b8%a7%e0%b9%83%e0%b8%ab%e0%b8%a1%e0%b9%88%e0%b8%aa%e0%b8%b9%e0%b9%88%e0%b8%81%e0%b8%b2%e0%b8%a3%e0%b9%80/
ATTACH;FMTTYPE=image/jpeg:https://onemorelink.co.th/wp-content/uploads/2024/09/452661596_1062533958634268_48148851626574086_n-e1725162128511.jpg
END:VEVENT
BEGIN:VEVENT
DTSTART;TZID=UTC:20240923T093000
DTEND;TZID=UTC:20240923T160000
DTSTAMP:20260421T013056
CREATED:20240917T185443Z
LAST-MODIFIED:20240917T185443Z
UID:3320-1727083800-1727107200@onemorelink.co.th
SUMMARY:สัมมนา " iSingleForm คลิกเดียวครบ จบทุกการแจ้งข้อมูล "
DESCRIPTION:รายละเอียด \nhttps://linevoom.line.me/post/1172662433367345413
URL:https://onemorelink.co.th/event/%e0%b8%aa%e0%b8%b1%e0%b8%a1%e0%b8%a1%e0%b8%99%e0%b8%b2-isingleform-%e0%b8%84%e0%b8%a5%e0%b8%b4%e0%b8%81%e0%b9%80%e0%b8%94%e0%b8%b5%e0%b8%a2%e0%b8%a7%e0%b8%84%e0%b8%a3%e0%b8%9a-%e0%b8%88%e0%b8%9a/
ATTACH;FMTTYPE=image/jpeg:https://onemorelink.co.th/wp-content/uploads/2024/09/iSingleForm-5-e1726624450820.jpg
END:VEVENT
BEGIN:VEVENT
DTSTART;TZID=UTC:20240923T080000
DTEND;TZID=UTC:20240923T163000
DTSTAMP:20260421T013056
CREATED:20240917T013201Z
LAST-MODIFIED:20240917T014056Z
UID:3313-1727078400-1727109000@onemorelink.co.th
SUMMARY:ECO Innovation Forum 2024 “Now Thailand : Sustainable Futures ลงทุนในประเทศไทยเพื่ออนาคตที่ยั่งยืน”
DESCRIPTION:  \nรายละเอียด \nhttps://linevoom.line.me/post/1172656145565413525 \n 
URL:https://onemorelink.co.th/event/eco-innovation-forum-2024-now-thailand-sustainable-futures-%e0%b8%a5%e0%b8%87%e0%b8%97%e0%b8%b8%e0%b8%99%e0%b9%83%e0%b8%99%e0%b8%9b%e0%b8%a3%e0%b8%b0%e0%b9%80%e0%b8%97%e0%b8%a8%e0%b9%84/
ATTACH;FMTTYPE=image/jpeg:https://onemorelink.co.th/wp-content/uploads/2024/09/B4C6E381-7899-4CBA-BF2C-F93673D41FD5-e1726561882471.jpg
END:VEVENT
BEGIN:VEVENT
DTSTART;TZID=UTC:20240913T130000
DTEND;TZID=UTC:20240913T170000
DTSTAMP:20260421T013056
CREATED:20240831T210853Z
LAST-MODIFIED:20240831T210907Z
UID:3253-1726232400-1726246800@onemorelink.co.th
SUMMARY:สัมมนา "ความสำคัญของเครื่องมือวัดในโรงงานอุตสาหกรรม"
DESCRIPTION:รายละเอียด \nhttps://linevoom.line.me/post/1172516274512848726
URL:https://onemorelink.co.th/event/%e0%b8%aa%e0%b8%b1%e0%b8%a1%e0%b8%a1%e0%b8%99%e0%b8%b2-%e0%b8%84%e0%b8%a7%e0%b8%b2%e0%b8%a1%e0%b8%aa%e0%b8%b3%e0%b8%84%e0%b8%b1%e0%b8%8d%e0%b8%82%e0%b8%ad%e0%b8%87%e0%b9%80%e0%b8%84%e0%b8%a3/
ATTACH;FMTTYPE=image/jpeg:https://onemorelink.co.th/wp-content/uploads/2024/09/453785095_1069266964627634_3177906510423272175_n-e1725163717832.jpg
END:VEVENT
BEGIN:VEVENT
DTSTART;TZID=UTC:20240910T090000
DTEND;TZID=UTC:20240910T093000
DTSTAMP:20260421T013056
CREATED:20240828T212332Z
LAST-MODIFIED:20240828T212332Z
UID:3242-1725958800-1725960600@onemorelink.co.th
SUMMARY:บรรยายพิเศษ เรื่อง “การขับเคลื่อนแผนพัฒนากำลังผลิตไฟฟ้าของประเทศไทย พ.ศ. 2567-2580 (Power Development Plan: PDP 2024) และแผนบริหารจัดการก๊าซธรรมชาติ พ.ศ. 2567-2580 (Gas Plan 2024)”
DESCRIPTION:รายละเอียด \nhttps://linevoom.line.me/post/1172490494503120993
URL:https://onemorelink.co.th/event/%e0%b8%9a%e0%b8%a3%e0%b8%a3%e0%b8%a2%e0%b8%b2%e0%b8%a2%e0%b8%9e%e0%b8%b4%e0%b9%80%e0%b8%a8%e0%b8%a9-%e0%b9%80%e0%b8%a3%e0%b8%b7%e0%b9%88%e0%b8%ad%e0%b8%87-%e0%b8%81%e0%b8%b2%e0%b8%a3%e0%b8%82/
ATTACH;FMTTYPE=image/jpeg:https://onemorelink.co.th/wp-content/uploads/2024/08/messageImage_1724899076217-e1724905396136.jpg
END:VEVENT
BEGIN:VEVENT
DTSTART;TZID=UTC:20240904T130000
DTEND;TZID=UTC:20240904T180000
DTSTAMP:20260421T013056
CREATED:20240822T232105Z
LAST-MODIFIED:20240822T232614Z
UID:3112-1725454800-1725472800@onemorelink.co.th
SUMMARY:สัมมนา “อัปเดตเทรนด์การลงทุน ESG ผลักดันผู้ประกอบการไทยสู่เวทีโลก”
DESCRIPTION:รายละเอียด \nhttps://linevoom.line.me/post/1172439373067150658
URL:https://onemorelink.co.th/event/%e0%b8%87%e0%b8%b2%e0%b8%99%e0%b8%aa%e0%b8%b1%e0%b8%a1%e0%b8%a1%e0%b8%99%e0%b8%b2-%e0%b8%ad%e0%b8%b1%e0%b8%9b%e0%b9%80%e0%b8%94%e0%b8%95%e0%b9%80%e0%b8%97%e0%b8%a3%e0%b8%99%e0%b8%94%e0%b9%8c/
ATTACH;FMTTYPE=image/jpeg:https://onemorelink.co.th/wp-content/uploads/2024/08/MIRA-Template_Seminar_BOixUOB_rev03-1-e1724393816897.jpg
END:VEVENT
BEGIN:VEVENT
DTSTART;VALUE=DATE:20240904
DTEND;VALUE=DATE:20240907
DTSTAMP:20260421T013056
CREATED:20240823T003849Z
LAST-MODIFIED:20240823T003849Z
UID:3133-1725408000-1725667199@onemorelink.co.th
SUMMARY:ประชุมทางวิชาการนานาชาติวิศวกรรมงานทาง  ครั้งที่ 5 (International Conference on Highway Engineering 2025)
DESCRIPTION:รายละเอียด \nhttps://linevoom.line.me/post/1172439860267422342
URL:https://onemorelink.co.th/event/%e0%b8%9b%e0%b8%a3%e0%b8%b0%e0%b8%8a%e0%b8%b8%e0%b8%a1%e0%b8%97%e0%b8%b2%e0%b8%87%e0%b8%a7%e0%b8%b4%e0%b8%8a%e0%b8%b2%e0%b8%81%e0%b8%b2%e0%b8%a3%e0%b8%99%e0%b8%b2%e0%b8%99%e0%b8%b2%e0%b8%8a%e0%b8%b2/
ATTACH;FMTTYPE=image/jpeg:https://onemorelink.co.th/wp-content/uploads/2024/08/513499-e1724398718969.jpg
END:VEVENT
BEGIN:VEVENT
DTSTART;VALUE=DATE:20240901
DTEND;VALUE=DATE:20241001
DTSTAMP:20260421T013056
CREATED:20240516T020529Z
LAST-MODIFIED:20241015T183909Z
UID:1770-1725148800-1727740799@onemorelink.co.th
SUMMARY:Power Up 2024 (ครั้งที่ 3)
DESCRIPTION:บริษัท วันมอร์ลิงค์ จำกัด ได้จัดกิจกรรม Power Up ครั้งที่ 3  จัดขึ้นระหว่างวันที่ 1 กันยายน 2567 – 30 กันยายน 2567 \nโดยกิจกรรมนี้จัดขึ้นเพื่อปลูกฝังให้พนักงานใช้เวลาว่างให้เป็นประโยชน์ และดูแลสุขภาพตนเอง \nกติกาคือ การออกกำลังกายนับแคลอรี่ของตนเอง เพื่อมาเป็นคะแนนในการแข่งขัน โดยแบ่งออกเป็น 4 ทีม \nพนักงานแข่งกันเพื่อชิงของรางวัลอย่างสนุกนาน นอกจากได้สุขภาพที่ดีแล้ว ยังได้ความสนุก และของรางวัลอีกด้วย \n  \nประมวลภาพกิจกรรม
URL:https://onemorelink.co.th/event/power-up-2024-%e0%b8%84%e0%b8%a3%e0%b8%b1%e0%b9%89%e0%b8%87%e0%b8%97%e0%b8%b5%e0%b9%88-3/
LOCATION:บริษัท วันมอร์ลิงค์ จำกัด\, 6 ซอยประชานุกูล 3\, วงศ์สว่าง\, บางซื่อ\, 10800\, Thailand
ATTACH;FMTTYPE=image/png:https://onemorelink.co.th/wp-content/uploads/2024/05/2.1-3-e1718871798495.png
ORGANIZER;CN="ONE MORE LINK":MAILTO:es@onemorelink.com
END:VEVENT
BEGIN:VEVENT
DTSTART;TZID=UTC:20240830T083000
DTEND;TZID=UTC:20240830T160000
DTSTAMP:20260421T013056
CREATED:20240820T195106Z
LAST-MODIFIED:20240822T234757Z
UID:3058-1725006600-1725033600@onemorelink.co.th
SUMMARY:สัมมนาโครงการ “เพิ่มประสิทธิภาพระบบการบริหารจัดการน้ำภาคอุตสาหกรรมในพื้นที่ลุ่มน้ำแม่กลอง ระยะที่ 1”
DESCRIPTION:รายละเอียด \nhttps://linevoom.line.me/post/1172437840266317991
URL:https://onemorelink.co.th/event/%e0%b8%81%e0%b8%b4%e0%b8%88%e0%b8%81%e0%b8%a3%e0%b8%a3%e0%b8%a1%e0%b8%aa%e0%b8%b1%e0%b8%a1%e0%b8%a1%e0%b8%99%e0%b8%b2%e0%b9%82%e0%b8%84%e0%b8%a3%e0%b8%87%e0%b8%81%e0%b8%b2%e0%b8%a3-%e0%b9%80/
ATTACH;FMTTYPE=image/png:https://onemorelink.co.th/wp-content/uploads/2024/08/CEE5A2774E16A89A401611737D5F313C63908451-e1724208615529.png
END:VEVENT
BEGIN:VEVENT
DTSTART;TZID=UTC:20240829T083000
DTEND;TZID=UTC:20240829T133000
DTSTAMP:20260421T013056
CREATED:20240823T003222Z
LAST-MODIFIED:20240823T003335Z
UID:3128-1724920200-1724938200@onemorelink.co.th
SUMMARY:สัมมนาเสริมสร้างความเป็นหุ้นส่วนไทย-สหรัฐเมริกาด้านความเข้มแข็งของห่วงโซ่อุปทาน
DESCRIPTION:รายละเอียด \nhttps://linevoom.line.me/post/1172439766767368641
URL:https://onemorelink.co.th/event/%e0%b8%aa%e0%b8%b1%e0%b8%a1%e0%b8%a1%e0%b8%99%e0%b8%b2%e0%b9%80%e0%b8%aa%e0%b8%a3%e0%b8%b4%e0%b8%a1%e0%b8%aa%e0%b8%a3%e0%b9%89%e0%b8%b2%e0%b8%87%e0%b8%84%e0%b8%a7%e0%b8%b2%e0%b8%a1%e0%b9%80%e0%b8%9b/
ATTACH;FMTTYPE=image/jpeg:https://onemorelink.co.th/wp-content/uploads/2024/08/Supply-Chain-Symposium_Poster_1-scaled-e1724398328962.jpg
END:VEVENT
BEGIN:VEVENT
DTSTART;TZID=UTC:20240827T093000
DTEND;TZID=UTC:20240827T170000
DTSTAMP:20260421T013056
CREATED:20240823T001330Z
LAST-MODIFIED:20240823T001659Z
UID:3123-1724751000-1724778000@onemorelink.co.th
SUMMARY:สัมมนาทางวิชาการ (Symposium) ประจำปี 2567 ครั้งที่ 45 เรื่อง “เศรษฐกิจที่เป็นธรรมและยั่งยืนเพื่อการบรรลุวาระการพัฒนาที่ยั่งยืน ค.ศ. 2030”
DESCRIPTION:รายละเอียด \nhttps://linevoom.line.me/post/1172439716367339912
URL:https://onemorelink.co.th/event/%e0%b8%aa%e0%b8%b1%e0%b8%a1%e0%b8%a1%e0%b8%99%e0%b8%b2%e0%b8%97%e0%b8%b2%e0%b8%87%e0%b8%a7%e0%b8%b4%e0%b8%8a%e0%b8%b2%e0%b8%81%e0%b8%b2%e0%b8%a3-symposium-%e0%b8%9b%e0%b8%a3%e0%b8%b0%e0%b8%88/
END:VEVENT
BEGIN:VEVENT
DTSTART;TZID=UTC:20240820T090000
DTEND;TZID=UTC:20240820T120000
DTSTAMP:20260421T013056
CREATED:20240820T020006Z
LAST-MODIFIED:20240820T214110Z
UID:1768-1724144400-1724155200@onemorelink.co.th
SUMMARY:กิจกรรมกล่องปันใจ
DESCRIPTION:บริษัท วันมอร์ลิงค์ จำกัด ได้นำสิ่งของ ได้แก่ คอมพิวเตอร์ โน๊ตบุ๊ค เสื้อผ้า และอื่นๆ ที่ไม่ได้ใช้แล้ว นำไปบริจาค ที่ โรงเรียนสอนดี (ประชารัฐอนุสรณ์) จังหวัดพระนครศรีอยุธยา และได้มีการพูดคุยกับทางผู้อำนวยการโรงเรียน คุณชัญญณัท คงกะพันธ์ สอบถามถึงปัญหาที่ทางโรงเรียนต้องการได้รับการแก้ไข และพัฒนาต่อไปในอนาคต \nประมวลภาพกิจกรรม
URL:https://onemorelink.co.th/event/%e0%b8%81%e0%b8%b4%e0%b8%88%e0%b8%81%e0%b8%a3%e0%b8%a3%e0%b8%a1%e0%b8%81%e0%b8%a5%e0%b9%88%e0%b8%ad%e0%b8%87%e0%b8%9b%e0%b8%b1%e0%b8%99%e0%b9%83%e0%b8%88/
LOCATION:บริษัท วันมอร์ลิงค์ จำกัด\, 6 ซอยประชานุกูล 3\, วงศ์สว่าง\, บางซื่อ\, 10800\, Thailand
ATTACH;FMTTYPE=image/png:https://onemorelink.co.th/wp-content/uploads/2024/05/โครงการกล่องปันใจ-e1718855794324.png
ORGANIZER;CN="ONE MORE LINK":MAILTO:es@onemorelink.com
END:VEVENT
BEGIN:VEVENT
DTSTART;TZID=UTC:20240811T080000
DTEND;TZID=UTC:20240811T120000
DTSTAMP:20260421T013056
CREATED:20240811T020035Z
LAST-MODIFIED:20240820T185342Z
UID:1766-1723363200-1723377600@onemorelink.co.th
SUMMARY:กิจกรรมซ้อมหนีไฟบริษัท
DESCRIPTION:  \n \nบริษัท วันมอร์ลิงค์ จำกัด ได้มีการจัดกิจกรรมซ้อมดับเพลิง และหนีไฟ ในวันที่ 11 สิงหาคม 2567 \nบริษัทฯ เล็งเห็นความสำคัญในการป้องกันตัวเอง ขณะทำงาน จึงได้มีการอบรมดับเพลิงเบื้องต้น และซ้อมหนีไฟ เพื่อวางแผนในเรื่องของอัคคีภัย ที่ไม่อาจคาดการณ์ได้ ว่าจะเกิดขึ้นเมื่อใด พนักงานของเรามีความรู้ติดตัวค่อนข้างเยอะเลยทีเดียว หลังจากอบรม \nประมวลภาพกิจกรรม
URL:https://onemorelink.co.th/event/%e0%b8%81%e0%b8%b4%e0%b8%88%e0%b8%81%e0%b8%a3%e0%b8%a3%e0%b8%a1%e0%b8%8b%e0%b9%89%e0%b8%ad%e0%b8%a1%e0%b8%ab%e0%b8%99%e0%b8%b5%e0%b9%84%e0%b8%9f%e0%b8%9a%e0%b8%a3%e0%b8%b4%e0%b8%a9%e0%b8%b1%e0%b8%97/
LOCATION:บริษัท วันมอร์ลิงค์ จำกัด\, 6 ซอยประชานุกูล 3\, วงศ์สว่าง\, บางซื่อ\, 10800\, Thailand
ATTACH;FMTTYPE=image/png:https://onemorelink.co.th/wp-content/uploads/2024/05/Ads-ซ้อมหนีไฟ-1-e1724170036776.png
ORGANIZER;CN="ONE MORE LINK":MAILTO:es@onemorelink.com
END:VEVENT
BEGIN:VEVENT
DTSTART;TZID=UTC:20240610T090000
DTEND;TZID=UTC:20240610T160000
DTSTAMP:20260421T013056
CREATED:20240610T020041Z
LAST-MODIFIED:20240820T091305Z
UID:1764-1718010000-1718035200@onemorelink.co.th
SUMMARY:อบรมพนักงาน การทำงานร่วมกันเป็นทีม
DESCRIPTION:บริษัท วันมอร์ลิงค์ จำกัด ได้มีการฝึกพัฒนาทักษะศักยภาพพนักงานของเราอยู่เสมอ จึงมีการจัดอบรม การทำงานร่วมกันเป็นทีม ในวันที่ 10 มิถุนายน 2567 โดยมี อาจารย์ ปรีดา ศิริชัยวัฒนานันท์ มาเป็นวิทยากรให้กับเรา \nโดยเนื้อหาหลักๆ จะสอนวิธีการคิด การวางแผนการทำงานอย่างไร ให้เป็นทีมเวิร์ค และประสบความสำเร็จ โดยมีกิจกรรมละลายพฤติกรรม เกมส์ต่างๆ เพื่อไม่ให้บรรยากาศเครียดเกินไป รู้สึกสนุก ได้รับความรู้ และทริคการทำงานร่วมกันเป็นทีมอีกด้วย \nประมวลภาพกิจกรรม
URL:https://onemorelink.co.th/event/%e0%b8%ad%e0%b8%9a%e0%b8%a3%e0%b8%a1%e0%b8%9e%e0%b8%99%e0%b8%b1%e0%b8%81%e0%b8%87%e0%b8%b2%e0%b8%99-%e0%b8%81%e0%b8%b2%e0%b8%a3%e0%b8%97%e0%b8%b3%e0%b8%87%e0%b8%b2%e0%b8%99%e0%b8%a3%e0%b9%88%e0%b8%a7/
LOCATION:บริษัท วันมอร์ลิงค์ จำกัด\, 6 ซอยประชานุกูล 3\, วงศ์สว่าง\, บางซื่อ\, 10800\, Thailand
ATTACH;FMTTYPE=image/png:https://onemorelink.co.th/wp-content/uploads/2024/05/3-e1718855108290.png
ORGANIZER;CN="ONE MORE LINK":MAILTO:es@onemorelink.com
END:VEVENT
BEGIN:VEVENT
DTSTART;VALUE=DATE:20240606
DTEND;VALUE=DATE:20240607
DTSTAMP:20260421T013056
CREATED:20240606T020015Z
LAST-MODIFIED:20240820T091817Z
UID:1762-1717632000-1717718399@onemorelink.co.th
SUMMARY:ตรวจสิ่งแวดล้อมบริษัท
DESCRIPTION:บริษัท วันมอร์ลิงค์ จำกัด ได้มีการตรวจสิ่งแวดล้อมบริเวณสำนักงาน เพื่อให้มีความพร้อมในการทำงาน ในวันที่ 6 มิถุนายน 2567 \nโดยจะมีการวัดค่าแสงในโต๊ะทำงานของพนักงาน การวัดคุณภาพน้ำทิ้งของบริษัท ผลตรวจออกมาค่าปกติ \nประมวลภาพกิจกรรม
URL:https://onemorelink.co.th/event/%e0%b8%95%e0%b8%a3%e0%b8%a7%e0%b8%88%e0%b8%aa%e0%b8%b4%e0%b9%88%e0%b8%87%e0%b9%81%e0%b8%a7%e0%b8%94%e0%b8%a5%e0%b9%89%e0%b8%ad%e0%b8%a1%e0%b8%9a%e0%b8%a3%e0%b8%b4%e0%b8%a9%e0%b8%b1%e0%b8%97/
LOCATION:บริษัท วันมอร์ลิงค์ จำกัด\, 6 ซอยประชานุกูล 3\, วงศ์สว่าง\, บางซื่อ\, 10800\, Thailand
ATTACH;FMTTYPE=image/png:https://onemorelink.co.th/wp-content/uploads/2024/05/2-e1718855007524.png
ORGANIZER;CN="ONE MORE LINK":MAILTO:es@onemorelink.com
END:VEVENT
BEGIN:VEVENT
DTSTART;TZID=UTC:20240521T130000
DTEND;TZID=UTC:20240521T170000
DTSTAMP:20260421T013056
CREATED:20240521T015423Z
LAST-MODIFIED:20240820T185005Z
UID:1760-1716296400-1716310800@onemorelink.co.th
SUMMARY:บริจาคกรงแยกขวดน้ำ - วัดศาลเจ้า ปทุมธานี (CSR)
DESCRIPTION:บริษัท วันมอร์ลิงค์ จำกัด ได้จัดกิจกรรมนำกรงไปบริจาค ที่วัดศาลเจ้า จังหวัด ปทุมธานี \nในวันที่ 21 พฤษภาคม 2567 \nโดยทางบริษัทฯ เล็งเห็นถึงความสำคัญในการคัดแยกขยะ และด้วยสภาพแวดล้อม มีการทิ้งขยะโดยไม่มีการคัดแยก \nจึงทำให้เราต้องการที่จะช่วยเหลือสังคม โดยการสั่งทำกรงคัดแยกขวดพลาสติก ที่มีล้อเลื่อน เพื่ออำนวยความสะดวกในการเคลื่อนย้าย สามารถนำไปตั้งในจุดต่างๆ ได้ ตกแต่งด้วยลายกนก แสดงความเป็นไทย และสวยงาม ได้นำไปบริจาคที่วัด \nโดยทางเจ้าหน้าที่ได้แสดงความขอบคุณที่ได้นำสิ่งที่เป็นประโยชน์มาใช้กับทางสถานที่สาธารณะ \nประมวลภาพกิจกรรม
URL:https://onemorelink.co.th/event/%e0%b8%9a%e0%b8%a3%e0%b8%b4%e0%b8%88%e0%b8%b2%e0%b8%84%e0%b8%81%e0%b8%a3%e0%b8%87%e0%b9%81%e0%b8%a2%e0%b8%81%e0%b8%82%e0%b8%a7%e0%b8%94%e0%b8%99%e0%b9%89%e0%b8%b3-%e0%b8%a7%e0%b8%b1%e0%b8%94-2/
LOCATION:บริษัท วันมอร์ลิงค์ จำกัด\, 6 ซอยประชานุกูล 3\, วงศ์สว่าง\, บางซื่อ\, 10800\, Thailand
ATTACH;FMTTYPE=image/png:https://onemorelink.co.th/wp-content/uploads/2024/05/AD-ทั่วไป-1-e1718854539649.png
ORGANIZER;CN="ONE MORE LINK":MAILTO:es@onemorelink.com
END:VEVENT
BEGIN:VEVENT
DTSTART;TZID=UTC:20240520T130000
DTEND;TZID=UTC:20240520T170000
DTSTAMP:20260421T013056
CREATED:20240520T015344Z
LAST-MODIFIED:20240820T184950Z
UID:1758-1716210000-1716224400@onemorelink.co.th
SUMMARY:บริจาคกรงแยกขวดน้ำ - วัดบางพลีใหญ่ใน สมุทรปราการ (CSR)
DESCRIPTION:บริษัท วันมอร์ลิงค์ จำกัด ได้จัดกิจกรรมนำกรงไปบริจาค ที่วัดบางพลีใหญ่ใน จังหวัด สมุทรปราการ \nในวันที่ 20 พฤษภาคม 2567 \nโดยทางบริษัทฯ เล็งเห็นถึงความสำคัญในการคัดแยกขยะ และด้วยสภาพแวดล้อม มีการทิ้งขยะโดยไม่มีการคัดแยก \nจึงทำให้เราต้องการที่จะช่วยเหลือสังคม โดยการสั่งทำกรงคัดแยกขวดพลาสติก ที่มีล้อเลื่อน เพื่ออำนวยความสะดวกในการเคลื่อนย้าย สามารถนำไปตั้งในจุดต่างๆ ได้ ตกแต่งด้วยลายกนก แสดงความเป็นไทย และสวยงาม ได้นำไปบริจาคที่วัด \nโดยทางเจ้าหน้าที่ได้แสดงความขอบคุณที่ได้นำสิ่งที่เป็นประโยชน์มาใช้กับทางสถานที่สาธารณะ \nประมวลภาพกิจกรรม
URL:https://onemorelink.co.th/event/%e0%b8%9a%e0%b8%a3%e0%b8%b4%e0%b8%88%e0%b8%b2%e0%b8%84%e0%b8%81%e0%b8%a3%e0%b8%87%e0%b9%81%e0%b8%a2%e0%b8%81%e0%b8%82%e0%b8%a7%e0%b8%94%e0%b8%99%e0%b9%89%e0%b8%b3-%e0%b8%a7%e0%b8%b1%e0%b8%94/
LOCATION:บริษัท วันมอร์ลิงค์ จำกัด\, 6 ซอยประชานุกูล 3\, วงศ์สว่าง\, บางซื่อ\, 10800\, Thailand
ATTACH;FMTTYPE=image/png:https://onemorelink.co.th/wp-content/uploads/2024/05/AD-ทั่วไป-e1718853720190.png
ORGANIZER;CN="ONE MORE LINK":MAILTO:es@onemorelink.com
END:VEVENT
BEGIN:VEVENT
DTSTART;TZID=UTC:20240506T150000
DTEND;TZID=UTC:20240506T160000
DTSTAMP:20260421T013056
CREATED:20240504T214902Z
LAST-MODIFIED:20240820T215950Z
UID:1409-1715007600-1715011200@onemorelink.co.th
SUMMARY:กิจกรรม 5 ส
DESCRIPTION:บริษัท วันมอร์ลิงค์ จำกัด ได้มีกิจกรรม 5 ส ในวันที่ 6 พฤษภาคม 2567 \nเป็นการทำความสะอาด โล๊ะของที่ไม่ได้ใช้ เคลียร์พื้นที่ เพื่อให้ที่ทำงานของเรามีความสะอาด และพื้นที่จัดเก็บเวสมากขึ้น \nโดยปลูกฝังให้พนักงานของเรามีความเป็นระเบียนวินัย สะอาด ดูแลพื้นที่ส่วนร่วม ให้มีความน่าอยู่มากยิ่งขึ้น \nประมวลภาพกิจกรรม \nhttps://onemorelink.co.th/wp-content/uploads/2024/05/745908956.404062.mp4
URL:https://onemorelink.co.th/event/one-more-link/
LOCATION:บริษัท วันมอร์ลิงค์ จำกัด\, 6 ซอยประชานุกูล 3\, วงศ์สว่าง\, บางซื่อ\, 10800\, Thailand
ATTACH;FMTTYPE=image/png:https://onemorelink.co.th/wp-content/uploads/2024/05/Ads-5ส-OML-e1718852759622.png
END:VEVENT
BEGIN:VEVENT
DTSTART;VALUE=DATE:20240501
DTEND;VALUE=DATE:20240601
DTSTAMP:20260421T013056
CREATED:20240516T015210Z
LAST-MODIFIED:20240820T185138Z
UID:1755-1714521600-1717199999@onemorelink.co.th
SUMMARY:Power Up 2024 (ครั้งที่ 2)
DESCRIPTION:บริษัท วันมอร์ลิงค์ จำกัด ได้จัดกิจกรรม Power Up ครั้งที่ 2  จัดขึ้นระหว่างวันที่ 1 พฤษภาคม 2567 – 31 พฤษภาคม 2567 \nโดยกิจกรรมนี้จัดขึ้นเพื่อปลูกฝังให้พนักงานใช้เวลาว่างให้เป็นประโยชน์ และดูแลสุขภาพตนเอง \nกติกาคือ การออกกำลังกายนับแคลอรี่ของตนเอง เพื่อมาเป็นคะแนนในการแข่งขัน โดยแบ่งออกเป็น 4 ทีม \nพนักงานแข่งกันเพื่อชิงของรางวัลอย่างสนุกนาน นอกจากได้สุขภาพที่ดีแล้ว ยังได้ความสนุก และของรางวัลอีกด้วย \n  \nประมวลภาพกิจกรรม
URL:https://onemorelink.co.th/event/power-up-2024-%e0%b8%84%e0%b8%a3%e0%b8%b1%e0%b9%89%e0%b8%87%e0%b8%97%e0%b8%b5%e0%b9%88-2/
LOCATION:บริษัท วันมอร์ลิงค์ จำกัด\, 6 ซอยประชานุกูล 3\, วงศ์สว่าง\, บางซื่อ\, 10800\, Thailand
ATTACH;FMTTYPE=image/png:https://onemorelink.co.th/wp-content/uploads/2024/05/2.1-2-1-e1718871697448.png
ORGANIZER;CN="ONE MORE LINK":MAILTO:es@onemorelink.com
END:VEVENT
BEGIN:VEVENT
DTSTART;TZID=UTC:20240401T130000
DTEND;TZID=UTC:20240401T140000
DTSTAMP:20260421T013056
CREATED:20240516T014850Z
LAST-MODIFIED:20240820T184106Z
UID:1752-1711976400-1711980000@onemorelink.co.th
SUMMARY:กิจกรรมสรงน้ำพระ (วันสงกรานต์)
DESCRIPTION:บริษัท วันมอร์ลิงค์ จำกัด ได้จัดกิจกรรม สงกรานต์วันมอร์ลิงค์ ในวันที่ 1 เมษายน 2567 \nซึ่งบริษัทฯ ได้มีกิจกรรมสรงน้ำพระ รดน้ำดำหัวผู้ใหญ่ และเล่นน้ำกันอย่างสนุกสนาน ต้อนรับวันปีใหม่ไทย \nบรรยากาศภายในบริษัทค่อนข้างอบอุ่น มีความสุขมากๆ \nประมวลภาพกิจกรรม
URL:https://onemorelink.co.th/event/%e0%b8%81%e0%b8%b4%e0%b8%88%e0%b8%81%e0%b8%a3%e0%b8%a3%e0%b8%a1%e0%b8%aa%e0%b8%a3%e0%b8%87%e0%b8%99%e0%b9%89%e0%b8%b3%e0%b8%9e%e0%b8%a3%e0%b8%b0-%e0%b8%a7%e0%b8%b1%e0%b8%99%e0%b8%aa%e0%b8%87%e0%b8%81/
LOCATION:บริษัท วันมอร์ลิงค์ จำกัด\, 6 ซอยประชานุกูล 3\, วงศ์สว่าง\, บางซื่อ\, 10800\, Thailand
ATTACH;FMTTYPE=image/jpeg:https://onemorelink.co.th/wp-content/uploads/2024/05/501417133038371385-e1718852407509.jpg
ORGANIZER;CN="ONE MORE LINK":MAILTO:es@onemorelink.com
END:VEVENT
BEGIN:VEVENT
DTSTART;TZID=UTC:20240313T070000
DTEND;TZID=UTC:20240313T120000
DTSTAMP:20260421T013056
CREATED:20240516T014552Z
LAST-MODIFIED:20240820T184215Z
UID:1748-1710313200-1710331200@onemorelink.co.th
SUMMARY:ตรวจสุขภาพประจำปี 2567
DESCRIPTION:บริษัท วันมอร์ลิงค์ จำกัด ได้มีการตรวจสุขภาพพนักงานประจำปี 2567 ในวันที่ 13 มีนาคม 2567 \nณ โรงพยาบาลเกษมราษฎ์ ประชาชื่น โดยผลตรวจพนักงานออกมา ปกติ แข็งแรงดี
URL:https://onemorelink.co.th/event/%e0%b8%95%e0%b8%a3%e0%b8%a7%e0%b8%88%e0%b8%aa%e0%b8%b8%e0%b8%82%e0%b8%a0%e0%b8%b2%e0%b8%9e%e0%b8%9b%e0%b8%a3%e0%b8%b0%e0%b8%88%e0%b8%b3%e0%b8%9b%e0%b8%b5-2567/
LOCATION:บริษัท วันมอร์ลิงค์ จำกัด\, 6 ซอยประชานุกูล 3\, วงศ์สว่าง\, บางซื่อ\, 10800\, Thailand
ATTACH;FMTTYPE=image/jpeg:https://onemorelink.co.th/wp-content/uploads/2024/05/497328203543609629-e1718852346756.jpg
ORGANIZER;CN="ONE MORE LINK":MAILTO:es@onemorelink.com
END:VEVENT
BEGIN:VEVENT
DTSTART;TZID=UTC:20240220T100000
DTEND;TZID=UTC:20240220T120000
DTSTAMP:20260421T013056
CREATED:20240516T013905Z
LAST-MODIFIED:20240820T192515Z
UID:1746-1708423200-1708430400@onemorelink.co.th
SUMMARY:เลี้ยงอาหารกลางวัน มูลนิธิเด็กอ่อนในสลัม
DESCRIPTION:บริษัท วันมอร์ลิงค์ จำกัด ได้กิจกรรมเลี้ยงอาหารกลางวันน้องๆ ที่มูลนิธิเด็กอ่อนในสลัม วันที่ 20 กุมภาพันธ์ 2567 \nเนื่องจากวันที่ 20 กุมภาพันธ์ เป็นวันคล้ายวันเกิดผู้บริหารของเรา \nบริษัทฯ ได้มีการจัดกิจกรรมเลี้ยงอาหารกลางวันน้องๆ ในมูลนิธิเด็กอ่อนในสลัม ซึ่งน้องๆ น่ารักน่าเอ็นดูมากๆ \nเป็นกิจกรรมที่ได้ช่วยเหลือสังคมให้น้องๆ มีอนาคตที่สดใส \nประมวลภาพกิจกรรม
URL:https://onemorelink.co.th/event/%e0%b9%80%e0%b8%a5%e0%b8%b5%e0%b9%89%e0%b8%a2%e0%b8%87%e0%b8%ad%e0%b8%b2%e0%b8%ab%e0%b8%b2%e0%b8%a3%e0%b8%81%e0%b8%a5%e0%b8%b2%e0%b8%87%e0%b8%a7%e0%b8%b1%e0%b8%99-%e0%b8%a1%e0%b8%b9%e0%b8%a5%e0%b8%99/
LOCATION:บริษัท วันมอร์ลิงค์ จำกัด\, 6 ซอยประชานุกูล 3\, วงศ์สว่าง\, บางซื่อ\, 10800\, Thailand
ATTACH;FMTTYPE=image/png:https://onemorelink.co.th/wp-content/uploads/2024/05/AD-ทั่วไป-1-1-e1718852140852.png
ORGANIZER;CN="ONE MORE LINK":MAILTO:es@onemorelink.com
END:VEVENT
BEGIN:VEVENT
DTSTART;TZID=UTC:20240212T100000
DTEND;TZID=UTC:20240212T110000
DTSTAMP:20260421T013056
CREATED:20240516T012637Z
LAST-MODIFIED:20240820T181348Z
UID:1744-1707732000-1707735600@onemorelink.co.th
SUMMARY:จับฉลาก Live 12 ปี
DESCRIPTION:บริษัท วันมอร์ลิงค์ จำกัด ได้จัดกิจกรรมครบรอบ 12 ปี บริษัท วันมอร์ลิงค์ จำกัด \nโดยมีการจับรางวัลรายชื่อลูกค้าผู้โชคดี จะได้รับส่วนลด 5% ของบิลเที่ยวขนถัดไป \nรายชื่อที่ได้รับรางวัลส่วนลด มีดังนี้ \nรายชื่อลูกค้าผู้โชคดี
URL:https://onemorelink.co.th/event/%e0%b8%88%e0%b8%b1%e0%b8%9a%e0%b8%89%e0%b8%a5%e0%b8%b2%e0%b8%81-live-12-%e0%b8%9b%e0%b8%b5/
LOCATION:บริษัท วันมอร์ลิงค์ จำกัด\, 6 ซอยประชานุกูล 3\, วงศ์สว่าง\, บางซื่อ\, 10800\, Thailand
ATTACH;FMTTYPE=image/png:https://onemorelink.co.th/wp-content/uploads/2024/05/FOML-4-e1718852086580.png
ORGANIZER;CN="ONE MORE LINK":MAILTO:es@onemorelink.com
END:VEVENT
BEGIN:VEVENT
DTSTART;TZID=UTC:20240209T090000
DTEND;TZID=UTC:20240209T120000
DTSTAMP:20260421T013056
CREATED:20240516T012357Z
LAST-MODIFIED:20240820T181326Z
UID:1741-1707469200-1707480000@onemorelink.co.th
SUMMARY:กิจกรรมตรุษจีน
DESCRIPTION:บริษัท วันมอร์ลิงค์ จำกัด ได้จัดกิจกรรม วันตรุษจีน วันที่ 9 กุมภาพันธ์ 2567 \nบริษัทฯ ได้มีพิธีการไหว้ ป้ายเล่าเอี๊ย โดยเป็นการไหว้เทพเจ้าต่างๆ มีเครื่องประกอบการไหว้ คือ เนื้อสัตว์สามอย่าง ได้แก่ หมู เป็ด และไก่ \nตอนสาย จะทำพิธีการไหว้ ป้ายแป๋บ้อ เป็นการไหว้บรรพบุรุษ พ่อแม่ หรือญาติพี่น้องที่ล่วงลับไปแล้ว \nโดยบริษัทฯ ยังมีการแจกซองอั่งเปา ให้กับพนักงานทุกท่าน เพื่อเป็นขวัญกำลังใจในการทำงาน \nประมวลภาพกิจกรรม
URL:https://onemorelink.co.th/event/%e0%b8%81%e0%b8%b4%e0%b8%88%e0%b8%81%e0%b8%a3%e0%b8%a3%e0%b8%a1%e0%b8%95%e0%b8%a3%e0%b8%b8%e0%b8%a9%e0%b8%88%e0%b8%b5%e0%b8%99/
LOCATION:บริษัท วันมอร์ลิงค์ จำกัด\, 6 ซอยประชานุกูล 3\, วงศ์สว่าง\, บางซื่อ\, 10800\, Thailand
ATTACH;FMTTYPE=image/jpeg:https://onemorelink.co.th/wp-content/uploads/2024/05/493118454975955207-e1718852028733.jpg
ORGANIZER;CN="ONE MORE LINK":MAILTO:es@onemorelink.com
END:VEVENT
BEGIN:VEVENT
DTSTART;VALUE=DATE:20240105
DTEND;VALUE=DATE:20240206
DTSTAMP:20260421T013056
CREATED:20240104T170032Z
LAST-MODIFIED:20240820T181312Z
UID:1737-1704412800-1707177599@onemorelink.co.th
SUMMARY:Power Up 2024 (ครั้งที่ 1)
DESCRIPTION:  \nบริษัท วันมอร์ลิงค์ จำกัด ได้จัดกิจกรรม Power Up ครั้งที่ 1  จัดขึ้นระหว่างวันที่ 5 มกราคม 2567 – 5 กุมภาพันธ์ 2567 \nโดยกิจกรรมนี้จัดขึ้นเพื่อปลูกฝังให้พนักงานใช้เวลาว่างให้เป็นประโยชน์ และดูแลสุขภาพตนเอง \nกติกาคือ การออกกำลังกายนับแคลอรี่ของตนเอง เพื่อมาเป็นคะแนนในการแข่งขัน โดยแบ่งออกเป็น 4 ทีม \nพนักงานแข่งกันเพื่อชิงของรางวัลอย่างสนุกนาน นอกจากได้สุขภาพที่ดีแล้ว ยังได้ความสนุก และของรางวัลอีกด้วย \n  \nประมวลภาพกิจกรรม \n 
URL:https://onemorelink.co.th/event/power-up-2024-%e0%b8%84%e0%b8%a3%e0%b8%b1%e0%b9%89%e0%b8%87%e0%b8%97%e0%b8%b5%e0%b9%88-1/
LOCATION:บริษัท วันมอร์ลิงค์ จำกัด\, 6 ซอยประชานุกูล 3\, วงศ์สว่าง\, บางซื่อ\, 10800\, Thailand
ATTACH;FMTTYPE=image/png:https://onemorelink.co.th/wp-content/uploads/2024/05/2.1-e1718871741281.png
ORGANIZER;CN="ONE MORE LINK":MAILTO:es@onemorelink.com
END:VEVENT
END:VCALENDAR