BEGIN:VCALENDAR
VERSION:2.0
PRODID:-//One more Link - ECPv6.15.20//NONSGML v1.0//EN
CALSCALE:GREGORIAN
METHOD:PUBLISH
X-ORIGINAL-URL:https://onemorelink.co.th
X-WR-CALDESC:Events for One more Link
REFRESH-INTERVAL;VALUE=DURATION:PT1H
X-Robots-Tag:noindex
X-PUBLISHED-TTL:PT1H
BEGIN:VTIMEZONE
TZID:Asia/Bangkok
BEGIN:STANDARD
TZOFFSETFROM:+0700
TZOFFSETTO:+0700
TZNAME:+07
DTSTART:20250101T000000
END:STANDARD
END:VTIMEZONE
BEGIN:VEVENT
DTSTART;TZID=Asia/Bangkok:20261225T080000
DTEND;TZID=Asia/Bangkok:20261225T170000
DTSTAMP:20260421T030358
CREATED:20260106T045841Z
LAST-MODIFIED:20260106T045841Z
UID:6716-1798185600-1798218000@onemorelink.co.th
SUMMARY:งานเลี้ยงปีใหม่
DESCRIPTION:
URL:https://onemorelink.co.th/event/%e0%b8%87%e0%b8%b2%e0%b8%99%e0%b9%80%e0%b8%a5%e0%b8%b5%e0%b9%89%e0%b8%a2%e0%b8%87%e0%b8%9b%e0%b8%b5%e0%b9%83%e0%b8%ab%e0%b8%a1%e0%b9%88/
ATTACH;FMTTYPE=image/png:https://onemorelink.co.th/wp-content/uploads/2026/01/OML-EV-งานเลี้ยงปีใหม่.png
END:VEVENT
END:VCALENDAR